BEGIN:VCALENDAR
VERSION:2.0
PRODID:-//SportPlan//Event Calendar//EN
CALSCALE:GREGORIAN
BEGIN:VEVENT
UID:2425ba7c-e5de-4ad6-b0aa-9189f709dcb5@sportplan.local
DTSTAMP:20260420T204711Z
DTSTART;VALUE=DATE:20261108
DTEND;VALUE=DATE:20261109
SUMMARY:Maratona di Ravenna 2026
DESCRIPTION:Maratona di Ravenna 2026 si terrà il 8 novembre 2026 presso Ravenna\, Emilia-Romagna. È un buon appuntamento per chi vuole vivere l'evento dal vivo e organizzare la giornata in anticipo. La sede indicata si trova a circa 42.2 km\, quindi conviene controllare accessi\, orari e servizi prima di partire.
LOCATION:Ravenna\, Emilia-Romagna
URL:https://sportplan.vercel.app/de/events/maratona-di-ravenna-2026-ravenna-2026-11-08
END:VEVENT
END:VCALENDAR
