BEGIN:VCALENDAR
VERSION:2.0
PRODID:-//SportPlan//Event Calendar//EN
CALSCALE:GREGORIAN
BEGIN:VEVENT
UID:44e4bcac-69e9-427e-849e-9896fd3f9bcc@sportplan.local
DTSTAMP:20260420T204652Z
DTSTART;VALUE=DATE:20260831
DTEND;VALUE=DATE:20260901
SUMMARY:Maratón de Medellín
DESCRIPTION:Maratón de Medellín se celebrará el 31 de agosto de 2026 en Medellín. Es una buena cita para participantes y acompañantes que buscan un ambiente activo y bien organizado. La distancia anunciada es de 42 km.
LOCATION:Medellín
URL:https://sportplan.vercel.app/de/events/maraton-de-medellin-medellin-2026-08-31-42k
END:VEVENT
END:VCALENDAR
