BEGIN:VCALENDAR
VERSION:2.0
PRODID:-//SportPlan//Event Calendar//EN
CALSCALE:GREGORIAN
BEGIN:VEVENT
UID:328e6153-f2ff-4c12-bb28-4f2cf4f6062d@sportplan.local
DTSTAMP:20260420T173928Z
DTSTART;VALUE=DATE:20260425
DTEND;VALUE=DATE:20260427
SUMMARY:Marathon de Cheverny
DESCRIPTION:Marathon de Cheverny a lieu à Cheverny le 25 avril 2026. C’est un rendez-vous parfait pour profiter d’une belle journée de course\, avec une belle ambiance de course et un parcours adapté à différents profils de coureurs. Que vous visiez la performance ou une expérience plus conviviale\, l’événement promet une ambiance motivante du début à la fin.
LOCATION:Cheverny
URL:https://sportplan.vercel.app/de/events/marathon-de-cheverny-cheverny-2026-04-25
END:VEVENT
END:VCALENDAR
