BEGIN:VCALENDAR
VERSION:2.0
PRODID:-//SportPlan//Event Calendar//EN
CALSCALE:GREGORIAN
BEGIN:VEVENT
UID:108296a0-224d-410c-832d-8df3376a4352@sportplan.local
DTSTAMP:20260420T174108Z
DTSTART;VALUE=DATE:20260425
DTEND;VALUE=DATE:20260427
SUMMARY:Marathon Bresse Dombes
DESCRIPTION:Marathon Bresse Dombes a lieu à Châtillon-sur-Chalaronne le 25 avril 2026. C’est un rendez-vous parfait pour profiter d’une belle journée de course\, avec un parcours de 42.2 km\, idéal autant pour viser un chrono que pour profiter de l’ambiance locale. Que vous visiez la performance ou une expérience plus conviviale\, l’événement promet une ambiance motivante du début à la fin.
LOCATION:Châtillon-sur-Chalaronne
URL:https://sportplan.vercel.app/de/events/marathon-bresse-dombes-chatillon-sur-chalaronne-2026-04-25
END:VEVENT
END:VCALENDAR
