BEGIN:VCALENDAR
VERSION:2.0
PRODID:-//SportPlan//Event Calendar//EN
CALSCALE:GREGORIAN
BEGIN:VEVENT
UID:4f9e74ef-34db-402a-bac1-60f519024db9@sportplan.local
DTSTAMP:20260420T191805Z
DTSTART;VALUE=DATE:20260606
DTEND;VALUE=DATE:20260607
SUMMARY:Maratón Trail Albarracín
DESCRIPTION:Maratón Trail Albarracín se celebrará el 6 de junio de 2026 en Albarracín\, Teruel. Es una buena opción para quienes buscan un reto bien organizado en un entorno atractivo de aproximadamente 38 km. Ideal para planificar la temporada\, disfrutar del ambiente del evento y competir a tu ritmo.
LOCATION:Albarracín\, Teruel
URL:https://sportplan.vercel.app/de/events/marat-n-trail-albarrac-n-albarrac-n-2026-06-06
END:VEVENT
END:VCALENDAR
