BEGIN:VCALENDAR
VERSION:2.0
PRODID:-//SportPlan//Event Calendar//EN
CALSCALE:GREGORIAN
BEGIN:VEVENT
UID:1ac5b2d3-f147-4a30-aa1c-03f1fd00ca7c@sportplan.local
DTSTAMP:20260420T191732Z
DTSTART;VALUE=DATE:20261206
DTEND;VALUE=DATE:20261207
SUMMARY:Maratón de Monterrey 2026
DESCRIPTION:Maratón de Monterrey 2026 se celebrará el 6 de diciembre de 2026 en Monterrey\, Nuevo León. Es una buena cita para quienes quieren vivir el ambiente del evento en directo y planificar la jornada con antelación. La sede prevista está a unos 42.2 km\, así que conviene revisar accesos\, horarios y servicios antes de salir.
LOCATION:Monterrey\, Nuevo León
URL:https://sportplan.vercel.app/de/events/marat-n-de-monterrey-2026-monterrey-2026-12-06
END:VEVENT
END:VCALENDAR
