BEGIN:VCALENDAR
VERSION:2.0
PRODID:-//SportPlan//Event Calendar//EN
CALSCALE:GREGORIAN
BEGIN:VEVENT
UID:874c9fee-bf08-468c-af90-21bc18a4a9ad@sportplan.local
DTSTAMP:20260420T204558Z
DTSTART;VALUE=DATE:20260927
DTEND;VALUE=DATE:20260928
SUMMARY:Maratón de Mendoza 2026
DESCRIPTION:Maratón de Mendoza 2026 se celebrará el 27 septiembre 2026 en Mendoza\, Mendoza\, ofreciendo una cita ideal para quienes buscan un reto bien organizado y un gran ambiente deportivo. Con un recorrido de 42.2 km\, es una buena oportunidad para marcar objetivos\, disfrutar del entorno y vivir la energía del evento de principio a fin.
LOCATION:Mendoza\, Mendoza
URL:https://sportplan.vercel.app/de/events/marat-n-de-mendoza-2026-mendoza-2026-09-27
END:VEVENT
END:VCALENDAR
