BEGIN:VCALENDAR
VERSION:2.0
PRODID:-//SportPlan//Event Calendar//EN
CALSCALE:GREGORIAN
BEGIN:VEVENT
UID:20716ebf-5cd3-437a-9dac-1cf3d677e9ff@sportplan.local
DTSTAMP:20260420T204810Z
DTSTART;VALUE=DATE:20261011
DTEND;VALUE=DATE:20261012
SUMMARY:Maratón de Buenos Aires 42K 2026
DESCRIPTION:Maratón de Buenos Aires 42K 2026 se celebrará en Buenos Aires\, Buenos Aires el 11 octubre 2026. Es una cita ideal para quienes buscan una experiencia deportiva bien organizada y un recorrido de 42.2 km. Perfecto tanto para participantes que quieren rendir al máximo como para quienes desean disfrutar del ambiente del evento.
LOCATION:Buenos Aires\, Buenos Aires
URL:https://sportplan.vercel.app/de/events/marat-n-de-buenos-aires-42k-2026-buenos-aires-2026-10-11
END:VEVENT
END:VCALENDAR
