BEGIN:VCALENDAR
VERSION:2.0
PRODID:-//SportPlan//Event Calendar//EN
CALSCALE:GREGORIAN
BEGIN:VEVENT
UID:16d95670-a779-40ac-8433-b50b488b7527@sportplan.local
DTSTAMP:20260420T191746Z
DTSTART;VALUE=DATE:20261108
DTEND;VALUE=DATE:20261109
SUMMARY:Maratón Ciudad de Toledo
DESCRIPTION:Maratón Ciudad de Toledo se celebrará el 8 de noviembre de 2026 en Toledo. Es una buena cita para quienes quieren vivir el ambiente del evento en directo y planificar la jornada con antelación. La sede prevista está a unos 42.2 km\, así que conviene revisar accesos\, horarios y servicios antes de salir.
LOCATION:Toledo
URL:https://sportplan.vercel.app/de/events/marat-n-ciudad-de-toledo-toledo-2026-11-08
END:VEVENT
END:VCALENDAR
