BEGIN:VCALENDAR
VERSION:2.0
PRODID:-//SportPlan//Event Calendar//EN
CALSCALE:GREGORIAN
BEGIN:VEVENT
UID:1f9114a4-9de1-4a72-93fd-a23b396e1ac5@sportplan.local
DTSTAMP:20260420T190743Z
DTSTART;VALUE=DATE:20260612
DTEND;VALUE=DATE:20260613
SUMMARY:Manila Marathon
DESCRIPTION:Official Manila Marathon site confirms this open amateur road-running event in Manila with 42K\, 21K\, 10K\, and 5K race categories plus published June 12 gun-start schedule and registration information.
LOCATION:Manila\, Philippines
URL:https://sportplan.vercel.app/de/events/manila-marathon-2026-06-12
END:VEVENT
END:VCALENDAR
