BEGIN:VCALENDAR
VERSION:2.0
PRODID:-//SportPlan//Event Calendar//EN
CALSCALE:GREGORIAN
BEGIN:VEVENT
UID:1a2274b0-7d39-488a-91dc-4c9bdb08a4db@sportplan.local
DTSTAMP:20260421T010018Z
DTSTART;VALUE=DATE:20260510
DTEND;VALUE=DATE:20260511
SUMMARY:Manawatu Striders Marathon
DESCRIPTION:Manawatu Striders Marathon takes place in Palmerston North on May 10\, 2026\, bringing runners together for a memorable race-day atmosphere. Whether you're aiming for a personal best or simply want to enjoy the course\, this event offers a motivating experience in Palmerston North.
LOCATION:Palmerston North
URL:https://sportplan.vercel.app/de/events/manawatu-striders-marathon-palmerston-north-2026-05-10
END:VEVENT
END:VCALENDAR
