BEGIN:VCALENDAR
VERSION:2.0
PRODID:-//SportPlan//Event Calendar//EN
CALSCALE:GREGORIAN
BEGIN:VEVENT
UID:2b8a413d-6b95-47a7-acbc-9c438a8bd2a9@sportplan.local
DTSTAMP:20260420T190619Z
DTSTART;VALUE=DATE:20260627
DTEND;VALUE=DATE:20260628
SUMMARY:Mammutmarsch Mannheim 2026
DESCRIPTION:Mammutmarsch Mannheim 2026 is an official amateur long-distance walking event on the Mammutmarsch organizer site. The official event page lists the 27 June 2026 edition in Mannheim with 30 km\, 42 km and 60 km participation options\, starting and finishing at Ehrenhof Schloss Mannheim and open as a public participation challenge.
LOCATION:Ehrenhof Schloss Mannheim\, Mannheim\, Baden-Württemberg\, Germany
URL:https://sportplan.vercel.app/de/events/mammutmarsch-mannheim-2026
END:VEVENT
END:VCALENDAR
