BEGIN:VCALENDAR
VERSION:2.0
PRODID:-//SportPlan//Event Calendar//EN
CALSCALE:GREGORIAN
BEGIN:VEVENT
UID:f02e5136-b18e-491c-9d7e-376d554f316a@sportplan.local
DTSTAMP:20260420T173828Z
DTSTART;VALUE=DATE:20261114
DTEND;VALUE=DATE:20261115
SUMMARY:Mammutmarsch Málaga 2026
DESCRIPTION:Mammutmarsch Málaga 2026 is an official amateur walking-hiking participation event in Málaga\, Spain on 14 November 2026. The official Mammutmarsch Málaga page confirms the 2026 date\, start and finish on Avenida Imperio Argentina in Málaga\, and open 30 km and 50 km hiking formats for regular participants.
LOCATION:Málaga\, Andalusia
URL:https://sportplan.vercel.app/de/events/mammutmarsch-malaga-2026-2026-11-14
END:VEVENT
END:VCALENDAR
