BEGIN:VCALENDAR
VERSION:2.0
PRODID:-//SportPlan//Event Calendar//EN
CALSCALE:GREGORIAN
BEGIN:VEVENT
UID:6021e0bd-9198-47e5-aba4-1e48278ecbcb@sportplan.local
DTSTAMP:20260420T225931Z
DTSTART;VALUE=DATE:20260516
DTEND;VALUE=DATE:20260517
SUMMARY:Mammutmarsch Berlin 75/100 2026
DESCRIPTION:Mammutmarsch Berlin 75/100 2026 is an official amateur walking-hiking participation event based in Potsdam and Berlin\, Germany on 16 May 2026. The official Mammutmarsch Berlin 75/100 page confirms the date\, start and finish at Neues Palais Potsdam\, and open 75 km and 100 km hiking formats for regular participants.
LOCATION:Potsdam and Berlin\, Brandenburg
URL:https://sportplan.vercel.app/de/events/mammutmarsch-berlin-75-100-2026-2026-05-16
END:VEVENT
END:VCALENDAR
