BEGIN:VCALENDAR
VERSION:2.0
PRODID:-//SportPlan//Event Calendar//EN
CALSCALE:GREGORIAN
BEGIN:VEVENT
UID:bdb10482-ab37-488b-ac26-734c96bb3cf2@sportplan.local
DTSTAMP:20260420T173812Z
DTSTART;VALUE=DATE:20261121
DTEND;VALUE=DATE:20261122
SUMMARY:Mammutmarsch Barcelona 2026
DESCRIPTION:Mammutmarsch Barcelona 2026 is an official amateur walking-hiking participation event in Cornellà de Llobregat\, Barcelona\, Spain on 21 November 2026. The official Mammutmarsch Barcelona page confirms the date\, start-finish location\, and open 30 km and 50 km formats for amateur participants.
LOCATION:Cornellà de Llobregat\, Barcelona\, Catalonia
URL:https://sportplan.vercel.app/de/events/mammutmarsch-barcelona-2026-2026-11-21
END:VEVENT
END:VCALENDAR
