BEGIN:VCALENDAR
VERSION:2.0
PRODID:-//SportPlan//Event Calendar//EN
CALSCALE:GREGORIAN
BEGIN:VEVENT
UID:0a2b27a8-89d3-45ff-8afd-3bd646d7a897@sportplan.local
DTSTAMP:20260420T192023Z
DTSTART;VALUE=DATE:20260425
DTEND;VALUE=DATE:20260426
SUMMARY:Madeira Island Ultra Trail
DESCRIPTION:Madeira Island Ultra Trail acontece em 25 de abril de 2026 em Porto Moniz. É uma ótima opção para quem procura um evento bem organizado em um ambiente atrativo. Consulte as informações oficiais do organizador para horários\, retirada de kit e detalhes logísticos.
LOCATION:Porto Moniz
URL:https://sportplan.vercel.app/de/events/madeira-island-ultra-trail-porto-moniz-2026-04-25
END:VEVENT
END:VCALENDAR
