BEGIN:VCALENDAR
VERSION:2.0
PRODID:-//SportPlan//Event Calendar//EN
CALSCALE:GREGORIAN
BEGIN:VEVENT
UID:ee7885cc-6220-4b19-9cf2-a19c030ff316@sportplan.local
DTSTAMP:20260420T221703Z
DTSTART;VALUE=DATE:20260830
DTEND;VALUE=DATE:20260831
SUMMARY:Maardu City Run 2026
DESCRIPTION:Maardu City Run 2026 is an official amateur road running event in Maardu\, Estonia on 30 August 2026. The official organizer page lists children's races plus public 2.5 km\, 5 km\, and 10 km distances\, along with virtual participation options.
LOCATION:Maardu\, Estonia
URL:https://sportplan.vercel.app/de/events/maardu-city-run-2026-maardu-2026-08-30
END:VEVENT
END:VCALENDAR
