BEGIN:VCALENDAR
VERSION:2.0
PRODID:-//SportPlan//Event Calendar//EN
CALSCALE:GREGORIAN
BEGIN:VEVENT
UID:1fcf3729-8c19-44d8-8e12-1664b7d3295f@sportplan.local
DTSTAMP:20260420T161222Z
DTSTART;VALUE=DATE:20260316
DTEND;VALUE=DATE:20260317
SUMMARY:Lupiana Trail - Largo
DESCRIPTION:
LOCATION:Lupìana\, Guadalajara\, Castilla-La Mancha
URL:https://sportplan.vercel.app/de/events/lupiana-trail-largo-lupiana-2026-03-16-21k
END:VEVENT
END:VCALENDAR
