BEGIN:VCALENDAR
VERSION:2.0
PRODID:-//SportPlan//Event Calendar//EN
CALSCALE:GREGORIAN
BEGIN:VEVENT
UID:a18b3150-f17f-4c6c-883d-a57cd1b97ba6@sportplan.local
DTSTAMP:20260420T174125Z
DTSTART;VALUE=DATE:20260502
DTEND;VALUE=DATE:20260503
SUMMARY:Louisiana Triathlon
DESCRIPTION:
LOCATION:New Roads
URL:https://sportplan.vercel.app/de/events/louisiana-triathlon-new-roads-2026-05-02
END:VEVENT
END:VCALENDAR
