BEGIN:VCALENDAR
VERSION:2.0
PRODID:-//SportPlan//Event Calendar//EN
CALSCALE:GREGORIAN
BEGIN:VEVENT
UID:2a3f768f-bc3c-4102-8ed4-998be7113c7c@sportplan.local
DTSTAMP:20260420T204332Z
DTSTART;VALUE=DATE:20260516
DTEND;VALUE=DATE:20260517
SUMMARY:Lillebælt Half Marathon 2026
DESCRIPTION:Lillebælt Half Marathon 2026 afholdes den 16. maj 2026 i Middelfart\, Southern Denmark. Løbet strækker sig over 21.1 km. Perfekt til at nyde ruten\, stemningen og en aktiv dag.
LOCATION:Middelfart\, Southern Denmark
URL:https://sportplan.vercel.app/de/events/lilleb-lt-half-marathon-2026-middelfart-2026-05-16
END:VEVENT
END:VCALENDAR
