BEGIN:VCALENDAR
VERSION:2.0
PRODID:-//SportPlan//Event Calendar//EN
CALSCALE:GREGORIAN
BEGIN:VEVENT
UID:0c12df8d-d32d-4f92-8ab5-1d9379f145ed@sportplan.local
DTSTAMP:20260420T191608Z
DTSTART;VALUE=DATE:20260525
DTEND;VALUE=DATE:20260526
SUMMARY:Lilac Run
DESCRIPTION:Lilac Run si svolgerà il 25 maggio 2026 a Spain. È un appuntamento ideale per vivere l’atmosfera dell’evento e godersi un’esperienza sportiva ben organizzata\, con un percorso di circa 10 km. Una scelta perfetta sia per chi partecipa spesso sia per chi vuole aggiungere una nuova sfida al calendario.
LOCATION:Spain
URL:https://sportplan.vercel.app/de/events/lilac-run-n-a-2026-05-25-9-9k
END:VEVENT
END:VCALENDAR
