BEGIN:VCALENDAR
VERSION:2.0
PRODID:-//SportPlan//Event Calendar//EN
CALSCALE:GREGORIAN
BEGIN:VEVENT
UID:d69e8382-4b3b-447c-9f2a-9cb379ef92ff@sportplan.local
DTSTAMP:20260420T234434Z
DTSTART;VALUE=DATE:20260926
DTEND;VALUE=DATE:20260927
SUMMARY:Lidingöloppet 30K 2026
DESCRIPTION:Lidingöloppet 30K 2026 arrangeras den 26 september 2026 i Lidingö\, Stockholm och bjuder på ett välorganiserat lopp med stark stämning för deltagare som söker en ny utmaning. Med en distans på 30 km är det ett fint tillfälle att sätta upp ett mål\, njuta av omgivningen och uppleva energin från start till mål.
LOCATION:Lidingö\, Stockholm
URL:https://sportplan.vercel.app/de/events/liding-loppet-30k-2026-liding-2026-09-26
END:VEVENT
END:VCALENDAR
