BEGIN:VCALENDAR
VERSION:2.0
PRODID:-//SportPlan//Event Calendar//EN
CALSCALE:GREGORIAN
BEGIN:VEVENT
UID:ab688fa1-b9ca-4586-99dd-c3b13f7e09e5@sportplan.local
DTSTAMP:20260420T192017Z
DTSTART;VALUE=DATE:20260523
DTEND;VALUE=DATE:20260524
SUMMARY:Lcw Maastricht Bike
DESCRIPTION:Lcw Maastricht Bike vindt plaats op 23 mei 2026 in Maastricht. Het evenement is een mooie kans om de sfeer te beleven en de ervaring met andere deelnemers te delen. Een sterke keuze voor wie een seizoensdoel wil plannen en een goed georganiseerde sportdag wil meemaken.
LOCATION:Maastricht
URL:https://sportplan.vercel.app/de/events/lcw-maastricht-bike-maastricht-2026-05-23
END:VEVENT
END:VCALENDAR
