BEGIN:VCALENDAR
VERSION:2.0
PRODID:-//SportPlan//Event Calendar//EN
CALSCALE:GREGORIAN
BEGIN:VEVENT
UID:cd71993b-cf30-4048-bdcb-b3484f24a5a9@sportplan.local
DTSTAMP:20260420T222521Z
DTSTART;VALUE=DATE:20260626
DTEND;VALUE=DATE:20260628
SUMMARY:Lavaredo Ultra Trail 120K 2026
DESCRIPTION:Lavaredo Ultra Trail 120K 2026 si terrà il 26 giugno 2026 a Cortina d'Ampezzo\, Veneto\, offrendo un'ottima occasione per vivere l'atmosfera dell'evento in questa location. Con una distanza di circa 120 km\, è un appuntamento interessante sia per i partecipanti abituali sia per chi desidera affrontare una nuova sfida.
LOCATION:Cortina d'Ampezzo\, Veneto
URL:https://sportplan.vercel.app/de/events/lavaredo-ultra-trail-120k-2026-cortina-d-ampezzo-2026-06-26
END:VEVENT
END:VCALENDAR
