BEGIN:VCALENDAR
VERSION:2.0
PRODID:-//SportPlan//Event Calendar//EN
CALSCALE:GREGORIAN
BEGIN:VEVENT
UID:7d355641-84ee-40e7-92d6-b4d458836b57@sportplan.local
DTSTAMP:20260420T204803Z
DTSTART;VALUE=DATE:20260516
DTEND;VALUE=DATE:20260517
SUMMARY:Latvijas čempionāts jūdzes skrējienā šosejā
DESCRIPTION:discovered via Latvian Athletics Federation official calendar (athletics.lv)\; Latvia had 6 queue entries before this run and remained under the 10+ deprioritization threshold
LOCATION:Rīga
URL:https://sportplan.vercel.app/de/events/latvijas-cempionats-judzes-skrejiena-soseja-2026-05-16
END:VEVENT
END:VCALENDAR
