BEGIN:VCALENDAR
VERSION:2.0
PRODID:-//SportPlan//Event Calendar//EN
CALSCALE:GREGORIAN
BEGIN:VEVENT
UID:b1e75cf7-3719-4eef-b33e-7f2dc7a790da@sportplan.local
DTSTAMP:20260420T204816Z
DTSTART;VALUE=DATE:20260529
DTEND;VALUE=DATE:20260530
SUMMARY:Latvijas čempionāts 24h skrējienā
DESCRIPTION:discovered via Latvian Athletics Federation official calendar (athletics.lv)\; Latvia had 6 queue entries before this run and remained under the 10+ deprioritization threshold
LOCATION:Roja
URL:https://sportplan.vercel.app/de/events/latvijas-cempionats-24h-skrejiena-2026-05-29
END:VEVENT
END:VCALENDAR
