BEGIN:VCALENDAR
VERSION:2.0
PRODID:-//SportPlan//Event Calendar//EN
CALSCALE:GREGORIAN
BEGIN:VEVENT
UID:a4aa3d09-af9a-42b1-a136-1a76c180c773@sportplan.local
DTSTAMP:20260420T204717Z
DTSTART;VALUE=DATE:20260509
DTEND;VALUE=DATE:20260510
SUMMARY:Latvian Orienteering Championship Long Distance 2026
DESCRIPTION:Latvian Orienteering Championship Long Distance 2026 is an official amateur orienteering event in Vestiena\, Madona Municipality\, Latvia on 9 May 2026. The official LOF event bulletin confirms the competition center at Gaterītis in Vestiena\, long-distance championship racing\, and open participation categories including OPEN 1 and OPEN 2 for regular participants.
LOCATION:Vestiena
URL:https://sportplan.vercel.app/de/events/latvian-orienteering-championship-long-distance-vestiena-2026-05-09
END:VEVENT
END:VCALENDAR
