BEGIN:VCALENDAR
VERSION:2.0
PRODID:-//SportPlan//Event Calendar//EN
CALSCALE:GREGORIAN
BEGIN:VEVENT
UID:249050be-d8cd-48c9-8ba2-935cc1a49a5e@sportplan.local
DTSTAMP:20260420T174127Z
DTSTART;VALUE=DATE:20260503
DTEND;VALUE=DATE:20260504
SUMMARY:Latitude 29.2 Triathlon
DESCRIPTION:Latitude 29.2 Triathlon takes place in Port Bolivar on May 3\, 2026\, offering participants a great chance to enjoy the atmosphere of race day in this destination. The route distance is to be confirmed. Expect an energizing event environment\, local support on site\, and a course suited to both dedicated runners and motivated newcomers.
LOCATION:Port Bolivar
URL:https://sportplan.vercel.app/de/events/latitude-29-2-triathlon-port-bolivar-2026-05-03
END:VEVENT
END:VCALENDAR
