BEGIN:VCALENDAR
VERSION:2.0
PRODID:-//SportPlan//Event Calendar//EN
CALSCALE:GREGORIAN
BEGIN:VEVENT
UID:b6166ebb-e304-4807-8d09-4b7a9d10481c@sportplan.local
DTSTAMP:20260420T191303Z
DTSTART;VALUE=DATE:20260426
DTEND;VALUE=DATE:20260427
SUMMARY:Lake Rumble Run
DESCRIPTION:
LOCATION:Joondalup
URL:https://sportplan.vercel.app/de/events/lake-rumble-run-joondalup-2026-04-26
END:VEVENT
END:VCALENDAR
