BEGIN:VCALENDAR
VERSION:2.0
PRODID:-//SportPlan//Event Calendar//EN
CALSCALE:GREGORIAN
BEGIN:VEVENT
UID:3b09b5b7-69fc-4f26-8b3e-0d6ff5b7d913@sportplan.local
DTSTAMP:20260420T191615Z
DTSTART;VALUE=DATE:20260422
DTEND;VALUE=DATE:20260423
SUMMARY:Lääne-Virumaa kolmapäevak
DESCRIPTION:Lääne-Virumaa kolmapäevak is an official amateur orienteering event in Palmse\, Estonia on 22 April 2026. The official Estonian Orienteering Federation event page confirms the date\, Laviku event map area near Palmse\, public event type\, and organizer Rakvere Orienteering Club. The federation page also exposes the official Google Maps venue coordinates for this recurring regional Wednesday event series.
LOCATION:Palmse küla\, Haljala vald\, Estonia
URL:https://sportplan.vercel.app/de/events/laane-virumaa-kolmapaevak-palmse-2026-04-22
END:VEVENT
END:VCALENDAR
