BEGIN:VCALENDAR
VERSION:2.0
PRODID:-//SportPlan//Event Calendar//EN
CALSCALE:GREGORIAN
BEGIN:VEVENT
UID:258e90cd-e07d-4a36-82ac-b492d49b4255@sportplan.local
DTSTAMP:20260420T204247Z
DTSTART;VALUE=DATE:20260421
DTEND;VALUE=DATE:20260422
SUMMARY:La Galopette du Trieux
DESCRIPTION:La Galopette du Trieux a lieu à Pleudaniel le 21 avril 2026. C’est un rendez-vous parfait pour profiter d’une belle journée de course\, avec un parcours de 18 km\, idéal autant pour viser un chrono que pour profiter de l’ambiance locale. Que vous visiez la performance ou une expérience plus conviviale\, l’événement promet une ambiance motivante du début à la fin.
LOCATION:Pleudaniel
URL:https://sportplan.vercel.app/de/events/la-galopette-du-trieux-pleudaniel-2026-04-21
END:VEVENT
END:VCALENDAR
