BEGIN:VCALENDAR
VERSION:2.0
PRODID:-//SportPlan//Event Calendar//EN
CALSCALE:GREGORIAN
BEGIN:VEVENT
UID:f42ffca2-3983-4e45-beb4-7c992efd9851@sportplan.local
DTSTAMP:20260420T221756Z
DTSTART;VALUE=DATE:20260125
DTEND;VALUE=DATE:20260126
SUMMARY:La Foulée Blanche 5 km 2026
DESCRIPTION:La Foulée Blanche 5 km 2026 is an official amateur cross-country ski race in Autrans-Méaudre en Vercors\, Isère\, France\, on 25 January 2026. The organizer's winter registrations page lists the 48th Foulée Blanche on Sunday 25 January 2026 and includes the open 5 km distance\, including a reduced-price under-8 option\, showing a family-accessible participation format.
LOCATION:Autrans-Méaudre en Vercors\, Isère\, France
URL:https://sportplan.vercel.app/de/events/la-foulee-blanche-5km-2026-autrans-2026-01-25
END:VEVENT
END:VCALENDAR
