BEGIN:VCALENDAR
VERSION:2.0
PRODID:-//SportPlan//Event Calendar//EN
CALSCALE:GREGORIAN
BEGIN:VEVENT
UID:6b6b149e-7388-4b62-a364-d65c4fe9a8af@sportplan.local
DTSTAMP:20260420T221755Z
DTSTART;VALUE=DATE:20260125
DTEND;VALUE=DATE:20260126
SUMMARY:La Foulée Blanche 21 km 2026
DESCRIPTION:La Foulée Blanche 21 km 2026 is an official amateur cross-country ski race in Autrans-Méaudre en Vercors\, Isère\, France\, on 25 January 2026. The organizer's winter registrations page lists the 48th Foulée Blanche on Sunday 25 January 2026 and confirms open registration for the 21 km distance as part of the public mass-participation ski weekend.
LOCATION:Autrans-Méaudre en Vercors\, Isère\, France
URL:https://sportplan.vercel.app/de/events/la-foulee-blanche-21km-2026-autrans-2026-01-25
END:VEVENT
END:VCALENDAR
