BEGIN:VCALENDAR
VERSION:2.0
PRODID:-//SportPlan//Event Calendar//EN
CALSCALE:GREGORIAN
BEGIN:VEVENT
UID:126bfd02-f84a-40c8-b65e-f999fefc951c@sportplan.local
DTSTAMP:20260420T204838Z
DTSTART;VALUE=DATE:20260628
DTEND;VALUE=DATE:20260629
SUMMARY:L'Étape Serra Negra by Tour de France 2026
DESCRIPTION:L'Étape Serra Negra by Tour de France 2026 is an amateur road-cycling event in Serra Negra\, São Paulo\, Brazil. The official event pages describe the first Serra Negra edition as part of the official L'Étape Brasil series\, with open registration\, a 55 km mountain route on race day\, and additional long-route event programming across 26 to 28 June 2026.
LOCATION:Serra Negra
URL:https://sportplan.vercel.app/de/events/l-etape-serra-negra-by-tour-de-france-2026-serra-negra-2026-06-28
END:VEVENT
END:VCALENDAR
