BEGIN:VCALENDAR
VERSION:2.0
PRODID:-//SportPlan//Event Calendar//EN
CALSCALE:GREGORIAN
BEGIN:VEVENT
UID:929cb167-cb96-4a4e-901c-b49304fee323@sportplan.local
DTSTAMP:20260420T161626Z
DTSTART;VALUE=DATE:20260420
DTEND;VALUE=DATE:20260421
SUMMARY:l'Ânaventure
DESCRIPTION:l'Ânaventure a lieu à Gignac le 20 avril 2026. C’est un rendez-vous parfait pour profiter d’une belle journée de course\, avec un parcours de 23.5 km\, idéal autant pour viser un chrono que pour profiter de l’ambiance locale. Que vous visiez la performance ou une expérience plus conviviale\, l’événement promet une ambiance motivante du début à la fin.
LOCATION:Gignac
URL:https://sportplan.vercel.app/de/events/l-anaventure-gignac-2026-04-20
END:VEVENT
END:VCALENDAR
