BEGIN:VCALENDAR
VERSION:2.0
PRODID:-//SportPlan//Event Calendar//EN
CALSCALE:GREGORIAN
BEGIN:VEVENT
UID:bddfa8f6-9b78-40ad-a8f7-71b954fb4d48@sportplan.local
DTSTAMP:20260420T192027Z
DTSTART;VALUE=DATE:20260425
DTEND;VALUE=DATE:20260426
SUMMARY:KV Puerto del Alacrán
DESCRIPTION:KV Puerto del Alacrán se celebra en Casavieja\, Ávila el 25 de abril de 2026. Es una cita ideal para vivir una gran jornada de running con un recorrido de 5.5 km route that suits both focused racing and enjoying the local atmosphere. Tanto si buscas marca como si prefieres disfrutar del recorrido\, ofrece una experiencia atractiva para corredores y acompañantes.
LOCATION:Casavieja\, Ávila
URL:https://sportplan.vercel.app/de/events/kv-puerto-del-alacr-n-casavieja-2026-04-25
END:VEVENT
END:VCALENDAR
