BEGIN:VCALENDAR
VERSION:2.0
PRODID:-//SportPlan//Event Calendar//EN
CALSCALE:GREGORIAN
BEGIN:VEVENT
UID:d40f2f2d-0ac3-4b73-a30e-fdebab57da91@sportplan.local
DTSTAMP:20260420T204203Z
DTSTART;VALUE=DATE:20260913
DTEND;VALUE=DATE:20260914
SUMMARY:Kros triatlon Valjevo 2026
DESCRIPTION:Kros triatlon Valjevo 2026 is an official Serbian Triathlon Federation cross triathlon in Valjevo\, Serbia on 13 September 2026. The federation calendar lists the event date\, Valjevo location\, organizer TK ATP\, and official event image\, which is sufficient for a conservative federation-first amateur event import.
LOCATION:Valjevo
URL:https://sportplan.vercel.app/de/events/kros-triatlon-valjevo-2026-09-13
END:VEVENT
END:VCALENDAR
