BEGIN:VCALENDAR
VERSION:2.0
PRODID:-//SportPlan//Event Calendar//EN
CALSCALE:GREGORIAN
BEGIN:VEVENT
UID:1077d4e8-290f-4fbd-b7af-ea649382f3d0@sportplan.local
DTSTAMP:20260420T204405Z
DTSTART;VALUE=DATE:20260815
DTEND;VALUE=DATE:20260816
SUMMARY:Kros triatlon Jahorina 2026
DESCRIPTION:Kros triatlon Jahorina 2026 is an official Bosnia and Herzegovina federation cross triathlon at Jahorina on 15 August 2026. The TPSBiH official homepage calendar lists it as an international competition and the state championship in sprint cross triathlon\, organized by PST Tim Jahorina.
LOCATION:Jahorina
URL:https://sportplan.vercel.app/de/events/kros-triatlon-jahorina-2026-08-15
END:VEVENT
END:VCALENDAR
