BEGIN:VCALENDAR
VERSION:2.0
PRODID:-//SportPlan//Event Calendar//EN
CALSCALE:GREGORIAN
BEGIN:VEVENT
UID:801a8d21-1521-4c30-9dd8-1c01815b9bd8@sportplan.local
DTSTAMP:20260420T222502Z
DTSTART;VALUE=DATE:20260416
DTEND;VALUE=DATE:20260417
SUMMARY:KrakkaFossavatnið 1 km 2026
DESCRIPTION:KrakkaFossavatnið is the official 1 km children's race of Fossavatnsgangan in Ísafjörður\, Iceland. The official event page lists it on 16 April 2026 at 17:30 in classic style and describes it as a short course for the youngest participants\, while the official price list confirms the 1 km race as a public registration offering.
LOCATION:Seljalandsdalur\, Ísafjörður\, Iceland
URL:https://sportplan.vercel.app/de/events/krakkafossavatnid-1-km-2026-isafjordur-2026-04-16
END:VEVENT
END:VCALENDAR
