BEGIN:VCALENDAR
VERSION:2.0
PRODID:-//SportPlan//Event Calendar//EN
CALSCALE:GREGORIAN
BEGIN:VEVENT
UID:63488470-254a-449a-821b-c30efc8686af@sportplan.local
DTSTAMP:20260421T030651Z
DTSTART;VALUE=DATE:20260613
DTEND;VALUE=DATE:20260615
SUMMARY:Kotka-Jukola 2026
DESCRIPTION:Kotka-Jukola 2026 is an official international amateur orienteering relay event in Kotka\, Finland on 13 to 14 June 2026. The official event invitation confirms the 48th Venla relay and 77th Jukola relay\, registration through Jukola's website\, participation without requiring a Finnish federation licence\, and competition-centre operations in the Kymi Airfield and Kotka motor racing centre area about 18 km north of Kotka city centre.
LOCATION:Kotka
URL:https://sportplan.vercel.app/de/events/kotka-jukola-2026-2026-06-13
END:VEVENT
END:VCALENDAR
