BEGIN:VCALENDAR
VERSION:2.0
PRODID:-//SportPlan//Event Calendar//EN
CALSCALE:GREGORIAN
BEGIN:VEVENT
UID:dba262e5-a690-4e0c-8f4f-fe4d13149996@sportplan.local
DTSTAMP:20260420T215504Z
DTSTART;VALUE=DATE:20260725
DTEND;VALUE=DATE:20260726
SUMMARY:Königsschlösser Marathon
DESCRIPTION:Königsschlösser Marathon findet am 25. Juli 2026 in Füssen\, Germany statt. Die Veranstaltung ist eine starke Wahl für Teilnehmende\, die ein gut organisiertes sportliches Erlebnis suchen. Prüfen Sie die Strecken- und Organisationsdetails rechtzeitig\, um optimal vorbereitet an den Start zu gehen.
LOCATION:Füssen\, Germany
URL:https://sportplan.vercel.app/de/events/konigsschlosser-marathon-2026-07-25
END:VEVENT
END:VCALENDAR
