BEGIN:VCALENDAR
VERSION:2.0
PRODID:-//SportPlan//Event Calendar//EN
CALSCALE:GREGORIAN
BEGIN:VEVENT
UID:5f5ea680-d467-4be2-bff2-7b8cc68885fa@sportplan.local
DTSTAMP:20260420T204841Z
DTSTART;VALUE=DATE:20260926
DTEND;VALUE=DATE:20260927
SUMMARY:König Ludwig Lauf Panoramalauf 10 km 2026
DESCRIPTION:The König Ludwig Lauf summer edition includes a 10 km Panoramalauf from Ettal to Oberammergau. The official organizer page presents it as a scenic public run for regular runners\, with shuttle transport\, aid on course\, finish services in Oberammergau\, and online registration open until late September 2026.
LOCATION:Oberammergau\, Bavaria\, Germany
URL:https://sportplan.vercel.app/de/events/konig-ludwig-lauf-panoramalauf-10km-2026-oberammergau-2026-09-26
END:VEVENT
END:VCALENDAR
