BEGIN:VCALENDAR
VERSION:2.0
PRODID:-//SportPlan//Event Calendar//EN
CALSCALE:GREGORIAN
BEGIN:VEVENT
UID:04643879-df37-4266-8c91-abd5a6dcfd8b@sportplan.local
DTSTAMP:20260420T204719Z
DTSTART;VALUE=DATE:20270207
DTEND;VALUE=DATE:20270208
SUMMARY:König Ludwig Lauf Classic 21 km 2027
DESCRIPTION:König Ludwig Lauf Classic 21 km is part of the Sunday classic-technique public race program in the Ammergauer Alpen. The official organizer site lists the classic race day on 7 February 2027\, shows a dedicated 21 km start-fee tier\, route map support\, and states that youths from the 2012 birth year may start the shorter distances.
LOCATION:Oberammergau\, Bavaria\, Germany
URL:https://sportplan.vercel.app/de/events/konig-ludwig-lauf-classic-21km-2027-oberammergau-2027-02-07
END:VEVENT
END:VCALENDAR
