BEGIN:VCALENDAR
VERSION:2.0
PRODID:-//SportPlan//Event Calendar//EN
CALSCALE:GREGORIAN
BEGIN:VEVENT
UID:aa4c2878-c93c-47ee-95ba-4bb293b02dee@sportplan.local
DTSTAMP:20260420T204705Z
DTSTART;VALUE=DATE:20270206
DTEND;VALUE=DATE:20270207
SUMMARY:König Ludwig Lauf 50 km FT
DESCRIPTION:König Ludwig Lauf is a long-running German popular cross-country ski race in the Ammergauer Alpen\, with amateur-friendly participation and a 50 km freestyle option. The Worldloppet federation calendar lists the 50 km freestyle race on 6 February 2027\, and the official event site presents the event as recreational ski racing in Oberammergau.
LOCATION:Oberammergau\, Bavaria\, Germany
URL:https://sportplan.vercel.app/de/events/konig-ludwig-lauf-50-km-ft-oberammergau-2027-02-06
END:VEVENT
END:VCALENDAR
