BEGIN:VCALENDAR
VERSION:2.0
PRODID:-//SportPlan//Event Calendar//EN
CALSCALE:GREGORIAN
BEGIN:VEVENT
UID:c62f0ba3-859f-4bd5-bc13-94db89fdedb1@sportplan.local
DTSTAMP:20260420T174117Z
DTSTART;VALUE=DATE:20260613
DTEND;VALUE=DATE:20260614
SUMMARY:Kodiak Ultra Marathons 100m By UTMB
DESCRIPTION:Kodiak Ultra Marathons 100m By UTMB takes place in Big Bear Lake\, California on June 13\, 2026. This event offers runners a well-organized race experience\, covering approximately 160 km. Expect an energizing atmosphere\, a motivating course\, and a great opportunity to enjoy race day in Big Bear Lake\, California.
LOCATION:Big Bear Lake\, California
URL:https://sportplan.vercel.app/de/events/kodiak-ultra-marathons-100m-by-utmb-big-bear-lake-2026-06-13
END:VEVENT
END:VCALENDAR
