BEGIN:VCALENDAR
VERSION:2.0
PRODID:-//SportPlan//Event Calendar//EN
CALSCALE:GREGORIAN
BEGIN:VEVENT
UID:5bbdf8e0-b3a5-407c-8469-979119331e00@sportplan.local
DTSTAMP:20260420T203514Z
DTSTART;VALUE=DATE:20261115
DTEND;VALUE=DATE:20261116
SUMMARY:Kobe Marathon
DESCRIPTION:
LOCATION:Kobe (JPN)
URL:https://sportplan.vercel.app/de/events/kobe-marathon-2026-11-15
END:VEVENT
END:VCALENDAR
