BEGIN:VCALENDAR
VERSION:2.0
PRODID:-//SportPlan//Event Calendar//EN
CALSCALE:GREGORIAN
BEGIN:VEVENT
UID:d5a3955d-c384-426b-9127-4cf807496fa5@sportplan.local
DTSTAMP:20260420T225932Z
DTSTART;VALUE=DATE:20261128
DTEND;VALUE=DATE:20261130
SUMMARY:KLM Curaçao Marathon 2026
DESCRIPTION:KLM Curaçao Marathon 2026 is an official amateur road-running weekend in Willemstad\, Curaçao on 28 and 29 November 2026. The official event site states that registration is open and offers public race formats including the KLM Full Marathon\, BDO Half Marathon\, HBN Law & Tax 10 km\, and the Cavalier 5 km run or walk\, with the scenic course crossing Curaçao's waterfront\, the Queen Emma pontoon bridge\, and the Juliana Bridge.
LOCATION:Mangrove Beach Corendon Curaçao All-Inclusive Resort
URL:https://sportplan.vercel.app/de/events/klm-curacao-marathon-2026-2026-11-29
END:VEVENT
END:VCALENDAR
