BEGIN:VCALENDAR
VERSION:2.0
PRODID:-//SportPlan//Event Calendar//EN
CALSCALE:GREGORIAN
BEGIN:VEVENT
UID:0286f801-a86e-42b7-82ef-6a3d5c8e0913@sportplan.local
DTSTAMP:20260420T204838Z
DTSTART;VALUE=DATE:20260726
DTEND;VALUE=DATE:20260727
SUMMARY:Kilkenny River Court Hotel Triathlon 2026
DESCRIPTION:Kilkenny Triathlon Club's official 2026 race page says the event will take place in Kilkenny Castle on Sunday 26 July. It offers both Try-a-Tri and Sprint distances for individuals or relay teams\, making it suitable for beginners as well as more experienced entrants.
LOCATION:Kilkenny Castle\, Kilkenny
URL:https://sportplan.vercel.app/de/events/kilkenny-river-court-hotel-triathlon-2026-kilkenny-castle-kilkenny-2026-07-26
END:VEVENT
END:VCALENDAR
