BEGIN:VCALENDAR
VERSION:2.0
PRODID:-//SportPlan//Event Calendar//EN
CALSCALE:GREGORIAN
BEGIN:VEVENT
UID:27efcf64-d0f6-499d-b3ce-1ac7abd69998@sportplan.local
DTSTAMP:20260420T190619Z
DTSTART;VALUE=DATE:20260621
DTEND;VALUE=DATE:20260622
SUMMARY:Karageçit Trail
DESCRIPTION:
LOCATION:Turkey
URL:https://sportplan.vercel.app/de/events/karagecit-trail-2026-06-21
END:VEVENT
END:VCALENDAR
