BEGIN:VCALENDAR
VERSION:2.0
PRODID:-//SportPlan//Event Calendar//EN
CALSCALE:GREGORIAN
BEGIN:VEVENT
UID:99b74d66-39ef-4298-97bc-214f0452f288@sportplan.local
DTSTAMP:20260420T204426Z
DTSTART;VALUE=DATE:20260808
DTEND;VALUE=DATE:20260809
SUMMARY:Kalvebod Triathlon & Duathlon 2026
DESCRIPTION:Kalvebod Triathlon & Duathlon 2026 is an official amateur multi-format triathlon event in Hvidovre\, Denmark on 8 August 2026. Triatlon Danmark and Hvidovre Triathlon Club describe beginner-friendly and quarter-distance formats at Hvidovre Havn\, with relay options\, marked bike and run routes\, and additional family participation through Kalvebod Kids Run4Fun.
LOCATION:Hvidovre Havn\, Hvidovre
URL:https://sportplan.vercel.app/de/events/kalvebod-triathlon-duathlon-2026-2026-08-08
END:VEVENT
END:VCALENDAR
